BEGIN:VCALENDAR
VERSION:2.0
PRODID:-//Wallace Eannace - ECPv6.15.16//NONSGML v1.0//EN
CALSCALE:GREGORIAN
METHOD:PUBLISH
X-WR-CALNAME:Wallace Eannace
X-ORIGINAL-URL:https://wallaceeannace.com
X-WR-CALDESC:Events for Wallace Eannace
REFRESH-INTERVAL;VALUE=DURATION:PT1H
X-Robots-Tag:noindex
X-PUBLISHED-TTL:PT1H
BEGIN:VTIMEZONE
TZID:America/New_York
BEGIN:DAYLIGHT
TZOFFSETFROM:-0500
TZOFFSETTO:-0400
TZNAME:EDT
DTSTART:20240310T070000
END:DAYLIGHT
BEGIN:STANDARD
TZOFFSETFROM:-0400
TZOFFSETTO:-0500
TZNAME:EST
DTSTART:20241103T060000
END:STANDARD
BEGIN:DAYLIGHT
TZOFFSETFROM:-0500
TZOFFSETTO:-0400
TZNAME:EDT
DTSTART:20250309T070000
END:DAYLIGHT
BEGIN:STANDARD
TZOFFSETFROM:-0400
TZOFFSETTO:-0500
TZNAME:EST
DTSTART:20251102T060000
END:STANDARD
BEGIN:DAYLIGHT
TZOFFSETFROM:-0500
TZOFFSETTO:-0400
TZNAME:EDT
DTSTART:20260308T070000
END:DAYLIGHT
BEGIN:STANDARD
TZOFFSETFROM:-0400
TZOFFSETTO:-0500
TZNAME:EST
DTSTART:20261101T060000
END:STANDARD
END:VTIMEZONE
BEGIN:VEVENT
DTSTART;TZID=America/New_York:20251010T120000
DTEND;TZID=America/New_York:20251010T130000
DTSTAMP:20260425T130723
CREATED:20250530T145101Z
LAST-MODIFIED:20250530T145101Z
UID:7753-1760097600-1760101200@wallaceeannace.com
SUMMARY:Condensing Boiler Benefits and Factors Influence ( 1PDH )
DESCRIPTION:Date: October 10\, 2025 \nTime: 12 pm – 1 pm \nLocation: Virtual   \nPDH: 1.0 \nTrainer: Robert Barrett  \n  \n-The combustion processes \n-Heat loss schematic \n-Benefit of condensing boiler \n-Factors influence in condensing boiler \n-Typical water temperatures application \n-NYC ASHRAE BIN data \n-Heating curve analysis \n-Product selection \nWho should attend – HVAC engineers \n1.0-PDH              Time:  1-hour          PIE # 202310181 \n \n 
URL:https://wallaceeannace.com/event/condensing-boiler-benefits-and-factors-influence-1pdh-2/
LOCATION:online
CATEGORIES:B&G,Lochinvar
ORGANIZER;CN="Wallace Eannace":MAILTO:Lflores@wea-inc.com
END:VEVENT
BEGIN:VEVENT
DTSTART;TZID=America/New_York:20251017T120000
DTEND;TZID=America/New_York:20251017T130000
DTSTAMP:20260425T130723
CREATED:20250530T145903Z
LAST-MODIFIED:20250530T145903Z
UID:7756-1760702400-1760706000@wallaceeannace.com
SUMMARY:Demystifying Plate and Frame Heat Exchanger ( 1 PDH)
DESCRIPTION:Date: October 17\, 2025 \nTime: 12 pm – 1 pm \nLocation: Virtual   \nPDH: 1.0 \nTrainer: Chris Abbott  \n  \n-Heat exchanger components \n-Design feature to pay attention \n-Plates type and corrugation \n-Accessories \n-P&F basics \n-Cross temperatures and approach temperatures \n-Common specification \n  \nWho should attend – Plumbing and HVAC engineers \n1.0-PDH               Time:  1-hour                      PIE # 20218078 \n \n 
URL:https://wallaceeannace.com/event/demystifying-plate-and-frame-heat-exchanger-1-pdh-2/
LOCATION:online
CATEGORIES:B&G,Lochinvar
ORGANIZER;CN="Wallace Eannace":MAILTO:Lflores@wea-inc.com
END:VEVENT
BEGIN:VEVENT
DTSTART;TZID=America/New_York:20251024T120000
DTEND;TZID=America/New_York:20251024T130000
DTSTAMP:20260425T130723
CREATED:20250530T150309Z
LAST-MODIFIED:20251014T161451Z
UID:7761-1761307200-1761310800@wallaceeannace.com
SUMMARY:Understanding Thermal Expansion and Placing Expansion Joints (1 PDH)
DESCRIPTION:Date: October 24\, 2025 \nTime: 12 pm – 1 pm \nLocation: Virtual   \nPDH: 1.5 \nTrainer: Austin Radius – MetraFlex \n  \nWhat an engineer should know to design a proper system \n– Pipe expansion and its relation to temperature in different types of systems \n– How to properly size expansion and compensate for it in a system \n– Different types of expansion joints and their use in systems. \n– Understanding thrust load in a piping system and how to calculate it \n– Sizing Anchors and alternate types of available Anchors \n– What pitfalls should be avoided in a system \n– What contractors should avoid doing when installing systems. \n\n \n 
URL:https://wallaceeannace.com/event/centrifugal-pump-fundamentals-1-pdh-2/
LOCATION:online
CATEGORIES:B&G,Lochinvar
ORGANIZER;CN="Wallace Eannace":MAILTO:Lflores@wea-inc.com
END:VEVENT
BEGIN:VEVENT
DTSTART;TZID=America/New_York:20251030T173000
DTEND;TZID=America/New_York:20251030T183000
DTSTAMP:20260425T130723
CREATED:20251014T162115Z
LAST-MODIFIED:20251014T163820Z
UID:7800-1761845400-1761849000@wallaceeannace.com
SUMMARY:Steam and Condensate
DESCRIPTION:Agenda:  \n– Learn the fundamentals of steam heating systems \n– Application of one and two-pipe systems \n– System components: Traps and vents \n– Boiler feed\, condensate\, and vacuum pumps \n  \n** Food provided ** \n  \n \n 
URL:https://wallaceeannace.com/event/steam-and-condensate/
LOCATION:Wallace Eannace – New York\, 50 Newtown Rd\, Plainview\, NY\, 11803\, United States
CATEGORIES:B&G,Lochinvar
ATTACH;FMTTYPE=image/png:https://wallaceeannace.com/wp-content/uploads/2025/10/Screenshot-2025-09-30-at-10.14.29_AM.png
ORGANIZER;CN="Wallace Eannace":MAILTO:Lflores@wea-inc.com
END:VEVENT
END:VCALENDAR