BEGIN:VCALENDAR
VERSION:2.0
PRODID:-//Wallace Eannace - ECPv6.15.16//NONSGML v1.0//EN
CALSCALE:GREGORIAN
METHOD:PUBLISH
X-WR-CALNAME:Wallace Eannace
X-ORIGINAL-URL:https://wallaceeannace.com
X-WR-CALDESC:Events for Wallace Eannace
REFRESH-INTERVAL;VALUE=DURATION:PT1H
X-Robots-Tag:noindex
X-PUBLISHED-TTL:PT1H
BEGIN:VTIMEZONE
TZID:America/New_York
BEGIN:DAYLIGHT
TZOFFSETFROM:-0500
TZOFFSETTO:-0400
TZNAME:EDT
DTSTART:20240310T070000
END:DAYLIGHT
BEGIN:STANDARD
TZOFFSETFROM:-0400
TZOFFSETTO:-0500
TZNAME:EST
DTSTART:20241103T060000
END:STANDARD
BEGIN:DAYLIGHT
TZOFFSETFROM:-0500
TZOFFSETTO:-0400
TZNAME:EDT
DTSTART:20250309T070000
END:DAYLIGHT
BEGIN:STANDARD
TZOFFSETFROM:-0400
TZOFFSETTO:-0500
TZNAME:EST
DTSTART:20251102T060000
END:STANDARD
BEGIN:DAYLIGHT
TZOFFSETFROM:-0500
TZOFFSETTO:-0400
TZNAME:EDT
DTSTART:20260308T070000
END:DAYLIGHT
BEGIN:STANDARD
TZOFFSETFROM:-0400
TZOFFSETTO:-0500
TZNAME:EST
DTSTART:20261101T060000
END:STANDARD
END:VTIMEZONE
BEGIN:VEVENT
DTSTART;TZID=America/New_York:20250606T120000
DTEND;TZID=America/New_York:20250606T130000
DTSTAMP:20260425T191929
CREATED:20250530T140234Z
LAST-MODIFIED:20250530T140234Z
UID:7601-1749211200-1749214800@wallaceeannace.com
SUMMARY:Domestic Hot Water Theory vs Reality  ( 1 PDH )
DESCRIPTION:Date: June 6\, 2025 \nTime: 12 pm – 1 pm \nLocation: Virtual \nPDH: 1.0 \nTrainer: Robert Barrett  \n  \nThis presentation provides an overview of real world DHW data for high-rise multi-family housing in NYC and compares the real world data to ASHRAE predictions. Detailed load provides are presented\, review of peak-hour and non-peak hours considerations are evaluated\, along with appropriate water heater and tank sizes. \n  \nWho should attend – HVAC and Plumbing design engineers \n1.0 PDH                              Time: 1-hour                    PS# 20216891 \n\n  \n \n 
URL:https://wallaceeannace.com/event/domestic-hot-water-theory-vs-reality-1-pdh/
LOCATION:online
CATEGORIES:B&G,Lochinvar
ORGANIZER;CN="Wallace Eannace":MAILTO:Lflores@wea-inc.com
END:VEVENT
BEGIN:VEVENT
DTSTART;TZID=America/New_York:20250620T120000
DTEND;TZID=America/New_York:20250620T130000
DTSTAMP:20260425T191929
CREATED:20250530T140421Z
LAST-MODIFIED:20250530T140421Z
UID:7727-1750420800-1750424400@wallaceeannace.com
SUMMARY:The Art and Science of Domestic Hot Water Design (1 PDH)
DESCRIPTION:Date: June 20\, 2025 \nTime: 12 pm – 1 pm \nLocation: Virtual   \nPDH: 1.0 \nTrainer: Robert Barrett  \n\nThis presentation covers the fundamentals of heat transfer\, dissecting each variable. It covers fixture accounting\, occupancy assumptions\, fixture schedules\, DHW percentages and cold-water requirements\, fixture units\, diversity factors\, and high level assumptions. \n\nTake-away: \n\nLearn to be comfortable with the basics of heat transfer as it relates to production of potable hot water\nDiscover a means of calculating domestic hot water loads that allows the engineer to record all of the assumptions and directly calculate the DHW demand (no more “black-box” methods).\nGain greater understanding in what goes into determining diversity factors\, assumptions on occupancy and other human factor elements.\nCompare ASHARAE sizing methods to fixture flow and usage methods of sizing DHW demand.\n\n\n\nWho should attend:  Plumbing & HVAC design engineers \nPDH-1.0              Time:  1.0 hours             PS#20218082 \n  \n \n 
URL:https://wallaceeannace.com/event/the-art-and-science-of-domestic-hot-water-design-1-pdh/
LOCATION:online
CATEGORIES:B&G,Lochinvar
ORGANIZER;CN="Wallace Eannace":MAILTO:Lflores@wea-inc.com
END:VEVENT
END:VCALENDAR