BEGIN:VCALENDAR
VERSION:2.0
PRODID:-//Wallace Eannace - ECPv6.15.16//NONSGML v1.0//EN
CALSCALE:GREGORIAN
METHOD:PUBLISH
X-ORIGINAL-URL:https://wallaceeannace.com
X-WR-CALDESC:Events for Wallace Eannace
REFRESH-INTERVAL;VALUE=DURATION:PT1H
X-Robots-Tag:noindex
X-PUBLISHED-TTL:PT1H
BEGIN:VTIMEZONE
TZID:America/New_York
BEGIN:DAYLIGHT
TZOFFSETFROM:-0500
TZOFFSETTO:-0400
TZNAME:EDT
DTSTART:20220313T070000
END:DAYLIGHT
BEGIN:STANDARD
TZOFFSETFROM:-0400
TZOFFSETTO:-0500
TZNAME:EST
DTSTART:20221106T060000
END:STANDARD
BEGIN:DAYLIGHT
TZOFFSETFROM:-0500
TZOFFSETTO:-0400
TZNAME:EDT
DTSTART:20230312T070000
END:DAYLIGHT
BEGIN:STANDARD
TZOFFSETFROM:-0400
TZOFFSETTO:-0500
TZNAME:EST
DTSTART:20231105T060000
END:STANDARD
BEGIN:DAYLIGHT
TZOFFSETFROM:-0500
TZOFFSETTO:-0400
TZNAME:EDT
DTSTART:20240310T070000
END:DAYLIGHT
BEGIN:STANDARD
TZOFFSETFROM:-0400
TZOFFSETTO:-0500
TZNAME:EST
DTSTART:20241103T060000
END:STANDARD
BEGIN:DAYLIGHT
TZOFFSETFROM:-0500
TZOFFSETTO:-0400
TZNAME:EDT
DTSTART:20250309T070000
END:DAYLIGHT
BEGIN:STANDARD
TZOFFSETFROM:-0400
TZOFFSETTO:-0500
TZNAME:EST
DTSTART:20251102T060000
END:STANDARD
BEGIN:DAYLIGHT
TZOFFSETFROM:-0500
TZOFFSETTO:-0400
TZNAME:EDT
DTSTART:20260308T070000
END:DAYLIGHT
BEGIN:STANDARD
TZOFFSETFROM:-0400
TZOFFSETTO:-0500
TZNAME:EST
DTSTART:20261101T060000
END:STANDARD
END:VTIMEZONE
BEGIN:VEVENT
DTSTART;TZID=America/New_York:20250221T090000
DTEND;TZID=America/New_York:20250221T120000
DTSTAMP:20260425T102101
CREATED:20250120T151856Z
LAST-MODIFIED:20250120T151856Z
UID:7577-1740128400-1740139200@wallaceeannace.com
SUMMARY:Residential Boiler Installation\, ﻿Start-up\, Service\, and Maintenance | Pump selection and options | NY Location |
DESCRIPTION:Date: February 21\, 2025 \nTime: 9 am – 12 pm  \nAgenda: \n\nReview of Lochinvar’s line of gas-fired residential boilers\nFeatures & benefits – how to sell them\nInstallation\, start-up\, service\, and maintenance\nCombustion analysis\, burner adjustment\, heat exchanger cleaning\nControl programming parameters\nPiping requirements\nVenting requirements\nBell & Gossett Pumps\nWater quality of closed-loop hydronic system\nContractor VIP Rewards program\n\nAt conclusion of class\, each participating contractor firm will receive: \n\nCertificate of course completion for each participant\nWallace Eannace Contractor VIP Rewards Program\nPurchasing discounts on select products\n\n  \n \n 
URL:https://wallaceeannace.com/event/residential-boiler-installation-start-up-service-and-maintenance-pump-selection-and-options-ny-location/
LOCATION:Wallace Eannace – New York\, 50 Newtown Rd\, Plainview\, NY\, 11803\, United States
CATEGORIES:B&G,Lochinvar,Sentinel
ORGANIZER;CN="Wallace Eannace":MAILTO:Lflores@wea-inc.com
END:VEVENT
BEGIN:VEVENT
DTSTART;TZID=America/New_York:20250214T090000
DTEND;TZID=America/New_York:20250214T120000
DTSTAMP:20260425T102101
CREATED:20250120T151548Z
LAST-MODIFIED:20250120T151548Z
UID:7575-1739523600-1739534400@wallaceeannace.com
SUMMARY:Commercial DHW Installation\, Start-up\, Service\, and Maintenance | NJ Location |
DESCRIPTION:Date: February 14\, 2025 \nTime: 9 am – 12 pm  \nAgenda: \n\nReview of Lochinvar’s line of gas-fired commercial boilers\nFeatures & benefits – how to sell them\nInstallation\, start-up\, service\, and maintenance\nCombustion analysis\, burner adjustment\, heat exchanger cleaning\nControl programming parameters\nPiping requirements\nVenting requirements\nBell & Gossett Pumps\nWater quality of closed-loop hydronic system\nContractor VIP Rewards program\n\nAt conclusion of class\, each participating contractor firm will receive: \n\nCertificate of course completion for each participant\nWallace Eannace Contractor VIP Rewards Program\nPurchasing discounts on select products\n\n  \n \n 
URL:https://wallaceeannace.com/event/commercial-dhw-installation-start-up-service-and-maintenance-nj-location/
LOCATION:Wallace Eannace – New Jersey\, 779 Susquehanna Ave.\, Franklin Lakes\, NJ\, 07417\, United States
CATEGORIES:B&G,Lochinvar,Sentinel
ORGANIZER;CN="Wallace Eannace":MAILTO:Lflores@wea-inc.com
END:VEVENT
BEGIN:VEVENT
DTSTART;TZID=America/New_York:20250214T090000
DTEND;TZID=America/New_York:20250214T120000
DTSTAMP:20260425T102101
CREATED:20250120T150302Z
LAST-MODIFIED:20250120T150558Z
UID:7573-1739523600-1739534400@wallaceeannace.com
SUMMARY:Commercial DHW Installation\, Start-up\, Service\, and Maintenance | NY Location |
DESCRIPTION:Date: February 14\, 2025 \nTime: 9 am – 12 pm  \nAgenda: \n\nReview of Lochinvar’s line of gas-fired commercial boilers\nFeatures & benefits – how to sell them\nInstallation\, start-up\, service\, and maintenance\nCombustion analysis\, burner adjustment\, heat exchanger cleaning\nControl programming parameters\nPiping requirements\nVenting requirements\nBell & Gossett Pumps\nWater quality of closed-loop hydronic system\nContractor VIP Rewards program\n\nAt conclusion of class\, each participating contractor firm will receive: \n\nCertificate of course completion for each participant\nWallace Eannace Contractor VIP Rewards Program\nPurchasing discounts on select products\n\n  \n \n 
URL:https://wallaceeannace.com/event/commercial-dhw-installation-start-up-service-and-maintenance-ny-location/
LOCATION:Wallace Eannace – New York\, 50 Newtown Rd\, Plainview\, NY\, 11803\, United States
CATEGORIES:B&G,Lochinvar,Sentinel
ORGANIZER;CN="Wallace Eannace":MAILTO:Lflores@wea-inc.com
END:VEVENT
BEGIN:VEVENT
DTSTART;TZID=America/New_York:20250207T120000
DTEND;TZID=America/New_York:20250207T130000
DTSTAMP:20260425T102101
CREATED:20250115T165433Z
LAST-MODIFIED:20250115T165433Z
UID:7550-1738929600-1738933200@wallaceeannace.com
SUMMARY:Controlling Condensing Boilers & Water Heaters (1 PDH)
DESCRIPTION:Date: February 7\, 2025 \nTime: 12 PM – 1 PM \nLocation: Virtual \nPDH: 1.0 PDH \nTrainer: Robert Barrett  \nThis presentation looks at the efficiency curves of condensing boilers and compares these curves to NYC weather bin data to determine the efficiency of a condensing boiler over a heating season when it is designed for non-condensing design temperatures of 180F-160F. \nBoiler outside air reset control savings are compared to pump VFD savings; control options are discussed. Also\, water heater piping design is demonstrated to have a large impact on domestic hot water heater efficiency. Some Lochinvar products are discussed along the way. \nTakeaway: \n\n Understand what causes a boiler to condense and how to optimize this\n Detailed review of condensing boiler efficiency curves as they relate to boiler LWT-reset and NYC weather data\nCompare the savings associated with boiler LWT reset versus the savings associated with constant LWT and variable speed pumping.\n Discover how to make every DHW application operate in condensing mode\nUnderstand the benefits of applying a front-end lo\n\nWho should attend: HVAC & Plumbing design engineers \n1.0-PDH            Duration: 1-hour                PS#20207027 \n  \n \n 
URL:https://wallaceeannace.com/event/controlling-condensing-boilers-water-heaters-1-pdh/
LOCATION:online
CATEGORIES:B&G,Lochinvar,Sentinel
ORGANIZER;CN="Wallace Eannace":MAILTO:Lflores@wea-inc.com
END:VEVENT
BEGIN:VEVENT
DTSTART;TZID=America/New_York:20240326T090000
DTEND;TZID=America/New_York:20240326T120000
DTSTAMP:20260425T102101
CREATED:20231103T190018Z
LAST-MODIFIED:20231103T190018Z
UID:6661-1711443600-1711454400@wallaceeannace.com
SUMMARY:Modern Boiler Room Concepts
DESCRIPTION:BRANDS & MODELS COVERED \nBell & Gossett\, Lochinvar\, Danfoss\, Sentinel\, BoilerMag\, McDonnell Miller\, Zilmet \n  \nHours: 9am – 12pm EST \nLocation Options: Virtual \n50 Newtown Road\, Plainview\, NY 11803 \n779 Susquehanna Ave\, Franklin Lakes\, NJ 07417 \nCredits: NONE \nNote: Those attending classes at one of our offices will receive lunch and can receive application support from one of our engineers at conclusion of training. \nAgenda: \n\nBasic to advanced boiler room design\nPiping layouts\nIndividual hydronic components\, how they work\, and work together\nPump selection\nECM (electronically commutated motor) pumps – why\, where\, and how to use them.\nZoning options\nAir management\nWater quality in closed loop hydronic systems\nContractor VIP Rewards program\n\nAt Conclusion of Class\, Each Participating Contractor Firm Will Receive: \n\nCertificate of course completion for each participant\nContractor VIP Rewards Program
URL:https://wallaceeannace.com/event/modern-boiler-room-concepts-2/
LOCATION:Webinar
CATEGORIES:B&G,Danfoss,Lochinvar,Sentinel
ORGANIZER;CN="Wallace Eannace":MAILTO:Lflores@wea-inc.com
END:VEVENT
BEGIN:VEVENT
DTSTART;TZID=America/New_York:20240220T090000
DTEND;TZID=America/New_York:20240220T120000
DTSTAMP:20260425T102101
CREATED:20231103T182110Z
LAST-MODIFIED:20231103T182110Z
UID:6650-1708419600-1708430400@wallaceeannace.com
SUMMARY:LOCHINVAR | B&G | SENTINEL CLASS: Commercial Boiler Installation\, Start-up\, Service\, and Maintenance | Pump selection and options | Water Quality
DESCRIPTION:BRANDS & MODELS COVERED \nLochinvar Commercial Boilers: Crest\, FTX\, Power Fin\, Copper Fin \nBell & Gossett Pumps \nSentinel Boiler System Cleaner \nBoilerMag Magnetite Strainer \n  \nHours: 9am – 12pm EST \nLocation Options: Virtual \n50 Newtown Road\, Plainview\, NY 11803 \n779 Susquehanna Ave\, Franklin Lakes\, NJ 07417 \nCredits: NONE \nNote: Those attending classes at one of our offices will receive lunch and can receive application support from one of our engineers at conclusion of training. \nAgenda: \n\nReview of Lochinvar’s line of gas-fired commercial boilers\nFeatures & benefits – how to sell them\nInstallation\, start-up\, service\, and maintenance\nCombustion analysis\, burner adjustment\, heat exchanger cleaning\nControl programming parameters\nPiping requirements\nVenting requirements\nBell & Gossett Pumps\nWater quality of closed-loop hydronic system\nContractor VIP Rewards program\n\nAt Conclusion of Class\, Each Participating Contractor Firm Will Receive: \n\nCertificate of course completion for each participant\nContractor VIP Rewards Program
URL:https://wallaceeannace.com/event/lochinvar-bg-sentinel-class-commercial-boiler-installation-start-up-service-and-maintenance-pump-selection-and-options-water-quality-2/
LOCATION:Webinar
CATEGORIES:B&G,Lochinvar,Sentinel
ORGANIZER;CN="Wallace Eannace":MAILTO:Lflores@wea-inc.com
END:VEVENT
BEGIN:VEVENT
DTSTART;TZID=America/New_York:20240206T090000
DTEND;TZID=America/New_York:20240206T120000
DTSTAMP:20260425T102101
CREATED:20231103T165740Z
LAST-MODIFIED:20231103T165740Z
UID:6645-1707210000-1707220800@wallaceeannace.com
SUMMARY:LOCHINVAR | B&G | SENTINEL CLASS: Residential Boiler Installation\, Start-up\, Service\, and Maintenance | Pump Selection and Options
DESCRIPTION:BRANDS & MODELS COVERED \nLochinvar Residential Boilers: Knight\, Noble & Solution Boilers \nBell & Gossett Pumps \nSentinel Boiler System Cleaner\, Chemicals\, and Magnetic Filters \n  \nHours: 9am – 12pm EST \nLocation Options: Virtual \n50 Newtown Road\, Plainview\, NY 11803 \n779 Susquehanna Ave\, Franklin Lakes\, NJ 07417 \nCredits: NONE \nNote: Those attending classes at one of our offices will receive lunch and can receive application support from one of our engineers at conclusion of training. \nAgenda: \n\nReview of Lochinvar’s line of gas-fired residential boilers\nFeatures & benefits – how to sell them\nInstallation\, start-up\, service\, and maintenance\nCombustion analysis\, burner adjustment\, heat exchanger cleaning\nControl programming parameters\nPiping requirements\nVenting requirements\nBell & Gossett Pumps\nWater quality of closed-loop hydronic system\nContractor VIP Rewards program\n\nAt Conclusion of Class\, Each Participating Contractor Firm Will Receive: \n\nCertificate of course completion for each participant\nContractor VIP Rewards Program
URL:https://wallaceeannace.com/event/lochinvar-bg-sentinel-class-residential-boiler-installation-start-up-service-and-maintenance-pump-selection-and-options/
LOCATION:Webinar
CATEGORIES:B&G,Lochinvar,Sentinel
ORGANIZER;CN="Wallace Eannace":MAILTO:Lflores@wea-inc.com
END:VEVENT
BEGIN:VEVENT
DTSTART;TZID=America/New_York:20240123T090000
DTEND;TZID=America/New_York:20240123T120000
DTSTAMP:20260425T102101
CREATED:20231103T185359Z
LAST-MODIFIED:20231103T185359Z
UID:6659-1706000400-1706011200@wallaceeannace.com
SUMMARY:Modern Boiler Room Concepts
DESCRIPTION:BRANDS & MODELS COVERED \nBell & Gossett\, Lochinvar\, Danfoss\, Sentinel\, BoilerMag\, McDonnell Miller\, Zilmet \n  \nHours: 9am – 12pm EST \nLocation Options: Virtual \n50 Newtown Road\, Plainview\, NY 11803 \n779 Susquehanna Ave\, Franklin Lakes\, NJ 07417 \nCredits: NONE \nNote: Those attending classes at one of our offices will receive lunch and can receive application support from one of our engineers at conclusion of training. \nAgenda: \n\nBasic to advanced boiler room design\nPiping layouts\nIndividual hydronic components\, how they work\, and work together\nPump selection\nECM (electronically commutated motor) pumps – why\, where\, and how to use them.\nZoning options\nAir management\nWater quality in closed loop hydronic systems\nContractor VIP Rewards program\n\nAt Conclusion of Class\, Each Participating Contractor Firm Will Receive: \n\nCertificate of course completion for each participant\nWallace Eannace Contractor VIP Rewards Program
URL:https://wallaceeannace.com/event/modern-boiler-room-concepts/
LOCATION:Webinar
CATEGORIES:B&G,Danfoss,Lochinvar,Sentinel
ORGANIZER;CN="Wallace Eannace":MAILTO:Lflores@wea-inc.com
END:VEVENT
BEGIN:VEVENT
DTSTART;TZID=America/New_York:20231212T090000
DTEND;TZID=America/New_York:20231212T120000
DTSTAMP:20260425T102101
CREATED:20231103T181724Z
LAST-MODIFIED:20231103T181724Z
UID:6648-1702371600-1702382400@wallaceeannace.com
SUMMARY:LOCHINVAR | B&G | SENTINEL CLASS: Commercial Boiler Installation\, Start-up\, Service\, and Maintenance | Pump selection and options | Water Quality
DESCRIPTION:BRANDS & MODELS COVERED \nLochinvar Commercial Boilers: Crest\, FTX\, Power Fin\, Copper Fin \nBell & Gossett Pumps \nSentinel Boiler System Cleaner \nBoilerMag Magnetite Strainer \n  \nHours: 9am – 12pm EST \nLocation Options: Virtual \n50 Newtown Road\, Plainview\, NY 11803 \n779 Susquehanna Ave\, Franklin Lakes\, NJ 07417 \nCredits: NONE \nNote: Those attending classes at one of our offices will receive lunch and can receive application support from one of our engineers at conclusion of training. \nAgenda: \n\nReview of Lochinvar’s line of gas-fired commercial boilers\nFeatures & benefits – how to sell them\nInstallation\, start-up\, service\, and maintenance\nCombustion analysis\, burner adjustment\, heat exchanger cleaning\nControl programming parameters\nPiping requirements\nVenting requirements\nBell & Gossett Pumps\nWater quality of closed-loop hydronic system\nContractor VIP Rewards program\n\nAt Conclusion of Class\, Each Participating Contractor Firm Will Receive: \n\nCertificate of course completion for each participant\nContractor VIP Rewards Program
URL:https://wallaceeannace.com/event/lochinvar-bg-sentinel-class-commercial-boiler-installation-start-up-service-and-maintenance-pump-selection-and-options-water-quality/
LOCATION:Webinar
CATEGORIES:B&G,Lochinvar,Sentinel
ORGANIZER;CN="Wallace Eannace":MAILTO:Lflores@wea-inc.com
END:VEVENT
BEGIN:VEVENT
DTSTART;TZID=America/New_York:20231114T090000
DTEND;TZID=America/New_York:20231114T120000
DTSTAMP:20260425T102101
CREATED:20231103T164655Z
LAST-MODIFIED:20231103T164655Z
UID:6638-1699952400-1699963200@wallaceeannace.com
SUMMARY:LOCHINVAR | B&G | SENTINEL: Residential Boiler Installation\, Start-up\, Service\, and Maintenance | Pump Selection and Options
DESCRIPTION:BRANDS & MODELS COVERED \nLochinvar Residential Boilers: Knight\, Noble & Solution Boilers \nBell & Gossett Pumps \nSentinel Boiler System Cleaner\, Chemicals\, and Magnetic Filters \n  \nHours: 9am – 12pm EST \nLocation Options: Virtual \n50 Newtown Road\, Plainview\, NY 11803 \n779 Susquehanna Ave\, Franklin Lakes\, NJ 07417 \nCredits: NONE \nNote: Those attending classes at one of our offices will receive lunch and can receive application support from one of our engineers at conclusion of training. \nAgenda: \n\nReview of Lochinvar’s line of gas-fired residential boilers\nFeatures & benefits – how to sell them\nInstallation\, start-up\, service\, and maintenance\nCombustion analysis\, burner adjustment\, heat exchanger cleaning\nControl programming parameters\nPiping requirements\nVenting requirements\nBell & Gossett Pumps\nWater quality of closed-loop hydronic system\nContractor VIP Rewards program\n\nAt Conclusion of Class\, Each Participating Contractor Firm Will Receive: \n\nCertificate of course completion for each participant\nContractor VIP Rewards Program
URL:https://wallaceeannace.com/event/lochinvar-bg-sentinel-residential-boiler-installation-start-up-service-and-maintenance-pump-selection-and-options-2/
LOCATION:Webinar
CATEGORIES:B&G,Lochinvar,Sentinel
ORGANIZER;CN="Wallace Eannace":MAILTO:Lflores@wea-inc.com
END:VEVENT
END:VCALENDAR