BEGIN:VCALENDAR
VERSION:2.0
PRODID:-//Wallace Eannace - ECPv6.15.16//NONSGML v1.0//EN
CALSCALE:GREGORIAN
METHOD:PUBLISH
X-ORIGINAL-URL:https://wallaceeannace.com
X-WR-CALDESC:Events for Wallace Eannace
REFRESH-INTERVAL;VALUE=DURATION:PT1H
X-Robots-Tag:noindex
X-PUBLISHED-TTL:PT1H
BEGIN:VTIMEZONE
TZID:America/New_York
BEGIN:DAYLIGHT
TZOFFSETFROM:-0500
TZOFFSETTO:-0400
TZNAME:EDT
DTSTART:20250309T070000
END:DAYLIGHT
BEGIN:STANDARD
TZOFFSETFROM:-0400
TZOFFSETTO:-0500
TZNAME:EST
DTSTART:20251102T060000
END:STANDARD
BEGIN:DAYLIGHT
TZOFFSETFROM:-0500
TZOFFSETTO:-0400
TZNAME:EDT
DTSTART:20260308T070000
END:DAYLIGHT
BEGIN:STANDARD
TZOFFSETFROM:-0400
TZOFFSETTO:-0500
TZNAME:EST
DTSTART:20261101T060000
END:STANDARD
BEGIN:DAYLIGHT
TZOFFSETFROM:-0500
TZOFFSETTO:-0400
TZNAME:EDT
DTSTART:20270314T070000
END:DAYLIGHT
BEGIN:STANDARD
TZOFFSETFROM:-0400
TZOFFSETTO:-0500
TZNAME:EST
DTSTART:20271107T060000
END:STANDARD
END:VTIMEZONE
BEGIN:VEVENT
DTSTART;TZID=America/New_York:20260327T120000
DTEND;TZID=America/New_York:20260327T130000
DTSTAMP:20260425T072638
CREATED:20260120T192529Z
LAST-MODIFIED:20260120T192733Z
UID:7864-1774612800-1774616400@wallaceeannace.com
SUMMARY:Modern Pump Selection for System Efficiency (1 PDH)
DESCRIPTION:Date: March 27\, 2026 \nTime: 12 pm – 1:00 pm \nLocation: Virtual   \nPDH: 1.0 \nTrainer: Chris Abbott  \n-Affinity law \n-Pump efficiency \n-pump brake horse power \n-Head loss calculation \n-ASHRAE 90.1 \n-Open and closed system \n-Constant and variable head \n-Pump curve \n-Best efficiency pump \n-Constant and variable speed \n-ASHRAE guidelines \n-Efficiency island and load profile \n-Energy saving comparison \nWho should attend – Plumbing & HVAC engineers \n1.0-PDH               Time:  1.0-hour           PIE # 202513316 \n \n 
URL:https://wallaceeannace.com/event/modern-pump-selection-for-system-efficiency-1-pdh/
LOCATION:online
CATEGORIES:B&G,Lochinvar
ORGANIZER;CN="Wallace Eannace":MAILTO:Lflores@wea-inc.com
END:VEVENT
END:VCALENDAR