BEGIN:VCALENDAR
VERSION:2.0
PRODID:-//Wallace Eannace - ECPv6.15.16//NONSGML v1.0//EN
CALSCALE:GREGORIAN
METHOD:PUBLISH
X-ORIGINAL-URL:https://wallaceeannace.com
X-WR-CALDESC:Events for Wallace Eannace
REFRESH-INTERVAL;VALUE=DURATION:PT1H
X-Robots-Tag:noindex
X-PUBLISHED-TTL:PT1H
BEGIN:VTIMEZONE
TZID:America/New_York
BEGIN:DAYLIGHT
TZOFFSETFROM:-0500
TZOFFSETTO:-0400
TZNAME:EDT
DTSTART:20250309T070000
END:DAYLIGHT
BEGIN:STANDARD
TZOFFSETFROM:-0400
TZOFFSETTO:-0500
TZNAME:EST
DTSTART:20251102T060000
END:STANDARD
BEGIN:DAYLIGHT
TZOFFSETFROM:-0500
TZOFFSETTO:-0400
TZNAME:EDT
DTSTART:20260308T070000
END:DAYLIGHT
BEGIN:STANDARD
TZOFFSETFROM:-0400
TZOFFSETTO:-0500
TZNAME:EST
DTSTART:20261101T060000
END:STANDARD
BEGIN:DAYLIGHT
TZOFFSETFROM:-0500
TZOFFSETTO:-0400
TZNAME:EDT
DTSTART:20270314T070000
END:DAYLIGHT
BEGIN:STANDARD
TZOFFSETFROM:-0400
TZOFFSETTO:-0500
TZNAME:EST
DTSTART:20271107T060000
END:STANDARD
END:VTIMEZONE
BEGIN:VEVENT
DTSTART;TZID=America/New_York:20260213T120000
DTEND;TZID=America/New_York:20260213T130000
DTSTAMP:20260425T085840
CREATED:20260120T193215Z
LAST-MODIFIED:20260120T193215Z
UID:7870-1770984000-1770987600@wallaceeannace.com
SUMMARY:Air Management in Hydronic Systems (& Hydronic Pressurization) (1 PDH)
DESCRIPTION:Date: February 13\, 2026 \nTime: 12 pm – 1 pm \nLocation: Virtual \nPDH: 1.0 PDH \nTrainer: Robert Barrett  \nThis presentation differentiates between “air control” and “air elimination” systems\, provides information on components required to make a close system work properly with a large focus on expansion tank selection and the role an expansion tank play in proper hydronic water pressure control. Some B&G products are discussed. \n  \nWho should attend: HVAC design engineers \n1.0-PDH            Duration: 1-hour                PS#202310180 \n 
URL:https://wallaceeannace.com/event/air-management-in-hydronic-systems-hydronic-pressurization-1-pdh/
CATEGORIES:B&G,Lochinvar
END:VEVENT
END:VCALENDAR