BEGIN:VCALENDAR
VERSION:2.0
PRODID:-//Wallace Eannace - ECPv6.15.16//NONSGML v1.0//EN
CALSCALE:GREGORIAN
METHOD:PUBLISH
X-ORIGINAL-URL:https://wallaceeannace.com
X-WR-CALDESC:Events for Wallace Eannace
REFRESH-INTERVAL;VALUE=DURATION:PT1H
X-Robots-Tag:noindex
X-PUBLISHED-TTL:PT1H
BEGIN:VTIMEZONE
TZID:America/New_York
BEGIN:DAYLIGHT
TZOFFSETFROM:-0500
TZOFFSETTO:-0400
TZNAME:EDT
DTSTART:20230312T070000
END:DAYLIGHT
BEGIN:STANDARD
TZOFFSETFROM:-0400
TZOFFSETTO:-0500
TZNAME:EST
DTSTART:20231105T060000
END:STANDARD
BEGIN:DAYLIGHT
TZOFFSETFROM:-0500
TZOFFSETTO:-0400
TZNAME:EDT
DTSTART:20240310T070000
END:DAYLIGHT
BEGIN:STANDARD
TZOFFSETFROM:-0400
TZOFFSETTO:-0500
TZNAME:EST
DTSTART:20241103T060000
END:STANDARD
BEGIN:DAYLIGHT
TZOFFSETFROM:-0500
TZOFFSETTO:-0400
TZNAME:EDT
DTSTART:20250309T070000
END:DAYLIGHT
BEGIN:STANDARD
TZOFFSETFROM:-0400
TZOFFSETTO:-0500
TZNAME:EST
DTSTART:20251102T060000
END:STANDARD
BEGIN:DAYLIGHT
TZOFFSETFROM:-0500
TZOFFSETTO:-0400
TZNAME:EDT
DTSTART:20260308T070000
END:DAYLIGHT
BEGIN:STANDARD
TZOFFSETFROM:-0400
TZOFFSETTO:-0500
TZNAME:EST
DTSTART:20261101T060000
END:STANDARD
END:VTIMEZONE
BEGIN:VEVENT
DTSTART;TZID=America/New_York:20250321T090000
DTEND;TZID=America/New_York:20250321T120000
DTSTAMP:20260425T124749
CREATED:20250120T154607Z
LAST-MODIFIED:20250120T154607Z
UID:7591-1742547600-1742558400@wallaceeannace.com
SUMMARY:Better Idea of Water Heating - Commercial Domestic Water Heating | NY Location |
DESCRIPTION:Date: March 21\, 2025 \nTime: 9 am – 12 pm  \nAgenda: \n\nProper sizing\nHigh Volume with quick circulation\nStandard efficiency vs high-efficiency\nWater Quality | Limescale\, calcite solutions\nPiping and new ideas with reverse indirects\, Plate & Frame HX\, and multiple units\nDomestic water recirc pumps with aquastats and timers\nLive Fire indirect with boiler at each facility\n\n \n 
URL:https://wallaceeannace.com/event/better-idea-of-water-heating-commercial-domestic-water-heating-ny-location/
LOCATION:Wallace Eannace – New York\, 50 Newtown Rd\, Plainview\, NY\, 11803\, United States
CATEGORIES:B&G,Danfoss,Lochinvar,Sentinel
ORGANIZER;CN="Wallace Eannace":MAILTO:Lflores@wea-inc.com
END:VEVENT
BEGIN:VEVENT
DTSTART;TZID=America/New_York:20250307T090000
DTEND;TZID=America/New_York:20250307T120000
DTSTAMP:20260425T124749
CREATED:20250120T152900Z
LAST-MODIFIED:20250120T152900Z
UID:7583-1741338000-1741348800@wallaceeannace.com
SUMMARY:Better Boiler Room Concepts Class | NJ Location |
DESCRIPTION:Date: March 7\, 2025 \nTime: 9 am – 12 pm  \nAgenda: \n\nBasic to advanced boiler room design\nPiping layouts\nIndividual hydronic components\, how they work\, and work together\nPump selection\nECM (electronically commutated motor) pumps – why\, where\, and how to use them.\nZoning options\nAir management\nWater quality in closed loop hydronic systems\nContractor VIP Rewards program\n\nAt conclusion of class\, each participating contractor firm will receive: \n\nCertificate of course completion for each participant\nWallace Eannace Contractor VIP Rewards Program\nPurchasing discounts on select products\n\n \n 
URL:https://wallaceeannace.com/event/better-boiler-room-concepts-class-nj-location/
LOCATION:Wallace Eannace – New Jersey\, 779 Susquehanna Ave.\, Franklin Lakes\, NJ\, 07417\, United States
CATEGORIES:B&G,Danfoss,Lochinvar,Sentinel
ORGANIZER;CN="Wallace Eannace":MAILTO:Lflores@wea-inc.com
END:VEVENT
BEGIN:VEVENT
DTSTART;TZID=America/New_York:20250307T090000
DTEND;TZID=America/New_York:20250307T120000
DTSTAMP:20260425T124749
CREATED:20250120T152736Z
LAST-MODIFIED:20250120T152736Z
UID:7581-1741338000-1741348800@wallaceeannace.com
SUMMARY:Better Boiler Room Concepts Class | NY Location |
DESCRIPTION:Date: March 7\, 2025 \nTime: 9 am – 12 pm  \nAgenda: \n\nBasic to advanced boiler room design\nPiping layouts\nIndividual hydronic components\, how they work\, and work together\nPump selection\nECM (electronically commutated motor) pumps – why\, where\, and how to use them.\nZoning options\nAir management\nWater quality in closed loop hydronic systems\nContractor VIP Rewards program\n\nAt conclusion of class\, each participating contractor firm will receive: \n\nCertificate of course completion for each participant\nWallace Eannace Contractor VIP Rewards Program\nPurchasing discounts on select products\n\n \n 
URL:https://wallaceeannace.com/event/better-boiler-room-concepts-class-ny-location/
LOCATION:Wallace Eannace – New York\, 50 Newtown Rd\, Plainview\, NY\, 11803\, United States
CATEGORIES:B&G,Danfoss,Lochinvar,Sentinel
ORGANIZER;CN="Wallace Eannace":MAILTO:Lflores@wea-inc.com
END:VEVENT
BEGIN:VEVENT
DTSTART;TZID=America/New_York:20240326T090000
DTEND;TZID=America/New_York:20240326T120000
DTSTAMP:20260425T124749
CREATED:20231103T190018Z
LAST-MODIFIED:20231103T190018Z
UID:6661-1711443600-1711454400@wallaceeannace.com
SUMMARY:Modern Boiler Room Concepts
DESCRIPTION:BRANDS & MODELS COVERED \nBell & Gossett\, Lochinvar\, Danfoss\, Sentinel\, BoilerMag\, McDonnell Miller\, Zilmet \n  \nHours: 9am – 12pm EST \nLocation Options: Virtual \n50 Newtown Road\, Plainview\, NY 11803 \n779 Susquehanna Ave\, Franklin Lakes\, NJ 07417 \nCredits: NONE \nNote: Those attending classes at one of our offices will receive lunch and can receive application support from one of our engineers at conclusion of training. \nAgenda: \n\nBasic to advanced boiler room design\nPiping layouts\nIndividual hydronic components\, how they work\, and work together\nPump selection\nECM (electronically commutated motor) pumps – why\, where\, and how to use them.\nZoning options\nAir management\nWater quality in closed loop hydronic systems\nContractor VIP Rewards program\n\nAt Conclusion of Class\, Each Participating Contractor Firm Will Receive: \n\nCertificate of course completion for each participant\nContractor VIP Rewards Program
URL:https://wallaceeannace.com/event/modern-boiler-room-concepts-2/
LOCATION:Webinar
CATEGORIES:B&G,Danfoss,Lochinvar,Sentinel
ORGANIZER;CN="Wallace Eannace":MAILTO:Lflores@wea-inc.com
END:VEVENT
BEGIN:VEVENT
DTSTART;TZID=America/New_York:20240123T090000
DTEND;TZID=America/New_York:20240123T120000
DTSTAMP:20260425T124749
CREATED:20231103T185359Z
LAST-MODIFIED:20231103T185359Z
UID:6659-1706000400-1706011200@wallaceeannace.com
SUMMARY:Modern Boiler Room Concepts
DESCRIPTION:BRANDS & MODELS COVERED \nBell & Gossett\, Lochinvar\, Danfoss\, Sentinel\, BoilerMag\, McDonnell Miller\, Zilmet \n  \nHours: 9am – 12pm EST \nLocation Options: Virtual \n50 Newtown Road\, Plainview\, NY 11803 \n779 Susquehanna Ave\, Franklin Lakes\, NJ 07417 \nCredits: NONE \nNote: Those attending classes at one of our offices will receive lunch and can receive application support from one of our engineers at conclusion of training. \nAgenda: \n\nBasic to advanced boiler room design\nPiping layouts\nIndividual hydronic components\, how they work\, and work together\nPump selection\nECM (electronically commutated motor) pumps – why\, where\, and how to use them.\nZoning options\nAir management\nWater quality in closed loop hydronic systems\nContractor VIP Rewards program\n\nAt Conclusion of Class\, Each Participating Contractor Firm Will Receive: \n\nCertificate of course completion for each participant\nWallace Eannace Contractor VIP Rewards Program
URL:https://wallaceeannace.com/event/modern-boiler-room-concepts/
LOCATION:Webinar
CATEGORIES:B&G,Danfoss,Lochinvar,Sentinel
ORGANIZER;CN="Wallace Eannace":MAILTO:Lflores@wea-inc.com
END:VEVENT
END:VCALENDAR