BEGIN:VCALENDAR
VERSION:2.0
PRODID:-//Wallace Eannace - ECPv6.15.16//NONSGML v1.0//EN
CALSCALE:GREGORIAN
METHOD:PUBLISH
X-WR-CALNAME:Wallace Eannace
X-ORIGINAL-URL:https://wallaceeannace.com
X-WR-CALDESC:Events for Wallace Eannace
REFRESH-INTERVAL;VALUE=DURATION:PT1H
X-Robots-Tag:noindex
X-PUBLISHED-TTL:PT1H
BEGIN:VTIMEZONE
TZID:America/New_York
BEGIN:DAYLIGHT
TZOFFSETFROM:-0500
TZOFFSETTO:-0400
TZNAME:EDT
DTSTART:20250309T070000
END:DAYLIGHT
BEGIN:STANDARD
TZOFFSETFROM:-0400
TZOFFSETTO:-0500
TZNAME:EST
DTSTART:20251102T060000
END:STANDARD
BEGIN:DAYLIGHT
TZOFFSETFROM:-0500
TZOFFSETTO:-0400
TZNAME:EDT
DTSTART:20260308T070000
END:DAYLIGHT
BEGIN:STANDARD
TZOFFSETFROM:-0400
TZOFFSETTO:-0500
TZNAME:EST
DTSTART:20261101T060000
END:STANDARD
BEGIN:DAYLIGHT
TZOFFSETFROM:-0500
TZOFFSETTO:-0400
TZNAME:EDT
DTSTART:20270314T070000
END:DAYLIGHT
BEGIN:STANDARD
TZOFFSETFROM:-0400
TZOFFSETTO:-0500
TZNAME:EST
DTSTART:20271107T060000
END:STANDARD
END:VTIMEZONE
BEGIN:VEVENT
DTSTART;TZID=America/New_York:20260508T120000
DTEND;TZID=America/New_York:20260508T130000
DTSTAMP:20260425T071930
CREATED:20260305T172836Z
LAST-MODIFIED:20260305T172836Z
UID:7957-1778241600-1778245200@wallaceeannace.com
SUMMARY:AHRI and ASHRAE 90.1 Apply to Plate and Frame Heat Exchanger (1 PDH)
DESCRIPTION:Date: May 8\, 2026 \nTime: 12 pm – 1 pm \nLocation: Virtual \nPDH: 1.0 PDH \nTrainer: Chris Abbott \n\nAHRI 400 definition\nScope of AHRI 400\nAHRI certify all\nASHRAE 90.1\nEconomizer and ASHRAE 90.1\nState adopted ASHRAE 90.1\nUS Climate zone\nSample of economizer\n\nWho should attend – Plumbing & HVAC engineers \n1.0-PDH            Duration:  1-hour     \n  \n \n 
URL:https://wallaceeannace.com/event/ahri-and-ashrae-90-1-apply-to-plate-and-frame-heat-exchanger-1-pdh-2/
LOCATION:online
CATEGORIES:B&G,Lochinvar
ORGANIZER;CN="Wallace Eannace":MAILTO:Lflores@wea-inc.com
END:VEVENT
END:VCALENDAR