BEGIN:VCALENDAR
VERSION:2.0
PRODID:-//Wallace Eannace - ECPv6.15.16//NONSGML v1.0//EN
CALSCALE:GREGORIAN
METHOD:PUBLISH
X-WR-CALNAME:Wallace Eannace
X-ORIGINAL-URL:https://wallaceeannace.com
X-WR-CALDESC:Events for Wallace Eannace
REFRESH-INTERVAL;VALUE=DURATION:PT1H
X-Robots-Tag:noindex
X-PUBLISHED-TTL:PT1H
BEGIN:VTIMEZONE
TZID:America/New_York
BEGIN:DAYLIGHT
TZOFFSETFROM:-0500
TZOFFSETTO:-0400
TZNAME:EDT
DTSTART:20240310T070000
END:DAYLIGHT
BEGIN:STANDARD
TZOFFSETFROM:-0400
TZOFFSETTO:-0500
TZNAME:EST
DTSTART:20241103T060000
END:STANDARD
BEGIN:DAYLIGHT
TZOFFSETFROM:-0500
TZOFFSETTO:-0400
TZNAME:EDT
DTSTART:20250309T070000
END:DAYLIGHT
BEGIN:STANDARD
TZOFFSETFROM:-0400
TZOFFSETTO:-0500
TZNAME:EST
DTSTART:20251102T060000
END:STANDARD
BEGIN:DAYLIGHT
TZOFFSETFROM:-0500
TZOFFSETTO:-0400
TZNAME:EDT
DTSTART:20260308T070000
END:DAYLIGHT
BEGIN:STANDARD
TZOFFSETFROM:-0400
TZOFFSETTO:-0500
TZNAME:EST
DTSTART:20261101T060000
END:STANDARD
END:VTIMEZONE
BEGIN:VEVENT
DTSTART;TZID=America/New_York:20251127T173000
DTEND;TZID=America/New_York:20251127T183000
DTSTAMP:20260425T130001
CREATED:20251014T163720Z
LAST-MODIFIED:20251014T163720Z
UID:7815-1764264600-1764268200@wallaceeannace.com
SUMMARY:Modern Hydronics
DESCRIPTION:Agenda:  \n– Basic to advanced boiler room design \n– Piping layouts \n– Individual hydronic components\, how they work\, and work together \n– Pump selection \n– ECM (electronically commutated motor) pumps – why\, where\, and how to use them \n– Zoning options \n– Air management \n– Water quality in closed-loop hydronic systems \n– Contractor VIP Rewards program \n** Food provided ** \n \n 
URL:https://wallaceeannace.com/event/modern-hydronics/
LOCATION:Wallace Eannace – New York\, 50 Newtown Rd\, Plainview\, NY\, 11803\, United States
CATEGORIES:B&G,Lochinvar
ATTACH;FMTTYPE=image/png:https://wallaceeannace.com/wp-content/uploads/2025/10/image.png
ORGANIZER;CN="Wallace Eannace":MAILTO:Lflores@wea-inc.com
END:VEVENT
END:VCALENDAR