BEGIN:VCALENDAR
VERSION:2.0
PRODID:-//Wallace Eannace - ECPv6.15.16//NONSGML v1.0//EN
CALSCALE:GREGORIAN
METHOD:PUBLISH
X-WR-CALNAME:Wallace Eannace
X-ORIGINAL-URL:https://wallaceeannace.com
X-WR-CALDESC:Events for Wallace Eannace
REFRESH-INTERVAL;VALUE=DURATION:PT1H
X-Robots-Tag:noindex
X-PUBLISHED-TTL:PT1H
BEGIN:VTIMEZONE
TZID:America/New_York
BEGIN:DAYLIGHT
TZOFFSETFROM:-0500
TZOFFSETTO:-0400
TZNAME:EDT
DTSTART:20240310T070000
END:DAYLIGHT
BEGIN:STANDARD
TZOFFSETFROM:-0400
TZOFFSETTO:-0500
TZNAME:EST
DTSTART:20241103T060000
END:STANDARD
BEGIN:DAYLIGHT
TZOFFSETFROM:-0500
TZOFFSETTO:-0400
TZNAME:EDT
DTSTART:20250309T070000
END:DAYLIGHT
BEGIN:STANDARD
TZOFFSETFROM:-0400
TZOFFSETTO:-0500
TZNAME:EST
DTSTART:20251102T060000
END:STANDARD
BEGIN:DAYLIGHT
TZOFFSETFROM:-0500
TZOFFSETTO:-0400
TZNAME:EDT
DTSTART:20260308T070000
END:DAYLIGHT
BEGIN:STANDARD
TZOFFSETFROM:-0400
TZOFFSETTO:-0500
TZNAME:EST
DTSTART:20261101T060000
END:STANDARD
END:VTIMEZONE
BEGIN:VEVENT
DTSTART;TZID=America/New_York:20251120T173000
DTEND;TZID=America/New_York:20251120T183000
DTSTAMP:20260425T130001
CREATED:20251014T163239Z
LAST-MODIFIED:20251014T163239Z
UID:7812-1763659800-1763663400@wallaceeannace.com
SUMMARY:LOCHINVAR SERVICE AND MAINTENANCE
DESCRIPTION:Agenda: \n– Review of Lochinvar’s line of gas-fired commercial boilers \n– Features & benefits – how to sell them \n– Installation\, start-up\, service\, and maintenance \n– Combustion analysis\, burner adjustment\, heat exchanger cleaning \n– Control programming parameters \n– Piping requirements \n– Venting requirements \n– Bell & Gossett Pumps \n– Water quality of closed-loop hydronic system \n– Contractor VIP Rewards program \n** Food provided ** \n \n 
URL:https://wallaceeannace.com/event/lochinvar-service-and-maintenance/
LOCATION:Wallace Eannace – New York\, 50 Newtown Rd\, Plainview\, NY\, 11803\, United States
CATEGORIES:B&G,Lochinvar
ATTACH;FMTTYPE=image/png:https://wallaceeannace.com/wp-content/uploads/2025/10/Screenshot-2025-09-30-at-11.27.00_AM.png
ORGANIZER;CN="Wallace Eannace":MAILTO:Lflores@wea-inc.com
END:VEVENT
END:VCALENDAR