BEGIN:VCALENDAR
VERSION:2.0
PRODID:-//Wallace Eannace - ECPv6.15.16//NONSGML v1.0//EN
CALSCALE:GREGORIAN
METHOD:PUBLISH
X-ORIGINAL-URL:https://wallaceeannace.com
X-WR-CALDESC:Events for Wallace Eannace
REFRESH-INTERVAL;VALUE=DURATION:PT1H
X-Robots-Tag:noindex
X-PUBLISHED-TTL:PT1H
BEGIN:VTIMEZONE
TZID:America/New_York
BEGIN:DAYLIGHT
TZOFFSETFROM:-0500
TZOFFSETTO:-0400
TZNAME:EDT
DTSTART:20240310T070000
END:DAYLIGHT
BEGIN:STANDARD
TZOFFSETFROM:-0400
TZOFFSETTO:-0500
TZNAME:EST
DTSTART:20241103T060000
END:STANDARD
BEGIN:DAYLIGHT
TZOFFSETFROM:-0500
TZOFFSETTO:-0400
TZNAME:EDT
DTSTART:20250309T070000
END:DAYLIGHT
BEGIN:STANDARD
TZOFFSETFROM:-0400
TZOFFSETTO:-0500
TZNAME:EST
DTSTART:20251102T060000
END:STANDARD
BEGIN:DAYLIGHT
TZOFFSETFROM:-0500
TZOFFSETTO:-0400
TZNAME:EDT
DTSTART:20260308T070000
END:DAYLIGHT
BEGIN:STANDARD
TZOFFSETFROM:-0400
TZOFFSETTO:-0500
TZNAME:EST
DTSTART:20261101T060000
END:STANDARD
END:VTIMEZONE
BEGIN:VEVENT
DTSTART;TZID=America/New_York:20250912T120000
DTEND;TZID=America/New_York:20250912T130000
DTSTAMP:20260425T165007
CREATED:20250530T144039Z
LAST-MODIFIED:20250530T144905Z
UID:7739-1757678400-1757682000@wallaceeannace.com
SUMMARY:Domestic Hot Water Theory vs Reality  ( 1 PDH )
DESCRIPTION:Date: September 12\, 2025 \nTime: 12 pm – 1 pm \nLocation: Virtual \nPDH: 1.0 \nTrainer: Robert Barrett  \n  \nThis presentation provides an overview of real world DHW data for high-rise multi-family housing in NYC and compares the real world data to ASHRAE predictions. Detailed load provides are presented\, review of peak-hour and non-peak hours considerations are evaluated\, along with appropriate water heater and tank sizes. \n  \nWho should attend – HVAC and Plumbing design engineers \n1.0 PDH                              Time: 1-hour                    PS# 20216891 \n  \n \n 
URL:https://wallaceeannace.com/event/domestic-hot-water-theory-vs-reality-1-pdh-2/
LOCATION:online
CATEGORIES:B&G,Lochinvar
ORGANIZER;CN="Wallace Eannace":MAILTO:Lflores@wea-inc.com
END:VEVENT
END:VCALENDAR