BEGIN:VCALENDAR
VERSION:2.0
PRODID:-//Wallace Eannace - ECPv6.15.16//NONSGML v1.0//EN
CALSCALE:GREGORIAN
METHOD:PUBLISH
X-ORIGINAL-URL:https://wallaceeannace.com
X-WR-CALDESC:Events for Wallace Eannace
REFRESH-INTERVAL;VALUE=DURATION:PT1H
X-Robots-Tag:noindex
X-PUBLISHED-TTL:PT1H
BEGIN:VTIMEZONE
TZID:America/New_York
BEGIN:DAYLIGHT
TZOFFSETFROM:-0500
TZOFFSETTO:-0400
TZNAME:EDT
DTSTART:20240310T070000
END:DAYLIGHT
BEGIN:STANDARD
TZOFFSETFROM:-0400
TZOFFSETTO:-0500
TZNAME:EST
DTSTART:20241103T060000
END:STANDARD
BEGIN:DAYLIGHT
TZOFFSETFROM:-0500
TZOFFSETTO:-0400
TZNAME:EDT
DTSTART:20250309T070000
END:DAYLIGHT
BEGIN:STANDARD
TZOFFSETFROM:-0400
TZOFFSETTO:-0500
TZNAME:EST
DTSTART:20251102T060000
END:STANDARD
BEGIN:DAYLIGHT
TZOFFSETFROM:-0500
TZOFFSETTO:-0400
TZNAME:EDT
DTSTART:20260308T070000
END:DAYLIGHT
BEGIN:STANDARD
TZOFFSETFROM:-0400
TZOFFSETTO:-0500
TZNAME:EST
DTSTART:20261101T060000
END:STANDARD
END:VTIMEZONE
BEGIN:VEVENT
DTSTART;TZID=America/New_York:20250815T120000
DTEND;TZID=America/New_York:20250815T130000
DTSTAMP:20260425T180151
CREATED:20250530T143513Z
LAST-MODIFIED:20250530T143513Z
UID:7735-1755259200-1755262800@wallaceeannace.com
SUMMARY:Centrifugal Pump Fundamentals (1 PDH)
DESCRIPTION:Date: August 15\, 2025 \nTime: 12 pm – 1 pm \nLocation: Virtual   \nPDH: 1.0 \nTrainer: Chris Abbott  \n  \nThis presentation discusses centrifugal pump fundamentals\, from developing the pump curve\, to pump components\, parallel & series applications\, NPSH considerations\, open & closed system head\, the development of the system curve\, etc.  The presentation discusses VFD operation\, minimum control head requirements\, PLEV – part load efficiency ratings and more. Some B&G products are discussed. \n\nWho should attend – HVAC & Plumbing design engineers \n1.0-PDH              Time:  1-hour                   PS#20217026 \n\n \n 
URL:https://wallaceeannace.com/event/centrifugal-pump-fundamentals-1-pdh/
LOCATION:online
CATEGORIES:B&G,Lochinvar
ORGANIZER;CN="Wallace Eannace":MAILTO:Lflores@wea-inc.com
END:VEVENT
END:VCALENDAR